BEGIN:VCALENDAR
VERSION:2.0
PRODID:-//Brujas de Ajijic - ECPv6.15.20//NONSGML v1.0//EN
CALSCALE:GREGORIAN
METHOD:PUBLISH
X-WR-CALNAME:Brujas de Ajijic
X-ORIGINAL-URL:https://brujasdeajijic.com
X-WR-CALDESC:Events for Brujas de Ajijic
REFRESH-INTERVAL;VALUE=DURATION:PT1H
X-Robots-Tag:noindex
X-PUBLISHED-TTL:PT1H
BEGIN:VTIMEZONE
TZID:America/Chicago
BEGIN:DAYLIGHT
TZOFFSETFROM:-0600
TZOFFSETTO:-0500
TZNAME:CDT
DTSTART:20240310T080000
END:DAYLIGHT
BEGIN:STANDARD
TZOFFSETFROM:-0500
TZOFFSETTO:-0600
TZNAME:CST
DTSTART:20241103T070000
END:STANDARD
BEGIN:DAYLIGHT
TZOFFSETFROM:-0600
TZOFFSETTO:-0500
TZNAME:CDT
DTSTART:20250309T080000
END:DAYLIGHT
BEGIN:STANDARD
TZOFFSETFROM:-0500
TZOFFSETTO:-0600
TZNAME:CST
DTSTART:20251102T070000
END:STANDARD
BEGIN:DAYLIGHT
TZOFFSETFROM:-0600
TZOFFSETTO:-0500
TZNAME:CDT
DTSTART:20260308T080000
END:DAYLIGHT
BEGIN:STANDARD
TZOFFSETFROM:-0500
TZOFFSETTO:-0600
TZNAME:CST
DTSTART:20261101T070000
END:STANDARD
END:VTIMEZONE
BEGIN:VEVENT
DTSTART;TZID=America/Chicago:20250908T140000
DTEND;TZID=America/Chicago:20250908T153000
DTSTAMP:20260425T125100
CREATED:20250827T192219Z
LAST-MODIFIED:20250827T194630Z
UID:1671-1757340000-1757345400@brujasdeajijic.com
SUMMARY:First Dance Practice 2025 Season
DESCRIPTION:We are welcoming new members. If you are interested in joining us\, come see just how much fun we can have. \nWant get a head start at learning the original dance? Google\, “Sandusky Witches Walk”\, click on their web page and scroll down to the “Learn the Witches’ Dance” video…Just 5 steps\, anyone can do it! \nBring your broom and come join the fun!
URL:https://brujasdeajijic.com/event/first-dance-practice-2025-season/
LOCATION:Hotel la Nueva Posada\, Donato Guerra 9\, Ajijic\, Jalisco\, 45920\, Mexico
CATEGORIES:Practice Sessions
ATTACH;FMTTYPE=image/jpeg:https://brujasdeajijic.com/wp-content/uploads/2024/11/IMG_4060-2024.jpg
ORGANIZER;CN="Brujas de Ajijic":MAILTO:witches@brujasdeajijic.com
END:VEVENT
END:VCALENDAR